BEGIN:VCALENDAR
VERSION:2.0
PRODID:-//wp-events-plugin.com//7.2.3.1//EN
TZID:Europe/Paris
X-WR-TIMEZONE:Europe/Paris
BEGIN:VEVENT
UID:1055@alamarsailing.com
DTSTART;TZID=Europe/Madrid:20240617T150000
DTEND;TZID=Europe/Madrid:20240623T180000
DTSTAMP:20240220T111317Z
URL:https://alamarsailing.com/events/travesia-menorca/
SUMMARY:TRAVESÍA MENORCA
DESCRIPTION:Travesía de Exploración por Menorca\, ideal para aquellas Muj
 eres Aventureras que tengan ganas de seguir aprendiendo sobre navegación 
 a la vez que disfrutan de las mejores calas y sus paisajes. Estaréis invo
 lucradas en todo momento sobre las decisiones a tomar a bordo\, así decid
 iremos entre todas la ruta exacta a navegar y las calas que visitaremos se
 gún la meteorología que tengamos durante la semana para estar todas las 
 noches bien resguardadas.\n\n&nbsp\;\n\nEmbarcación:  Doufur 38 de 3 cab
 inas dobles y un baño.\n\nSalida: lunes 17  de junio 2024. Quedaremos a 
 las 15h en el Barco situado en el Port Olímpic de Barcelona para preparar
 lo y organizar las compras a bordo\, para zarpar sobre las 16h. aproximada
 mente.\n\nLlegada: domingo 23 de junio  por la tarde.\n\n&nbsp\;\n\nNos e
 ncargaremos de realizar las compras de la comida según las preferencias d
 e las tripulantes. Trataremos pasar las noches fondeando en calas. Según 
 meteo o la cala que queramos visitar se podrá amarrar en boya\n\no atraca
 r en puerto. Al final del viaje se dividirán los gastos extras (comida\, 
 gasoil\, amarres y boyas) entre todas (excluyendo la patrona).\n\n&nbsp\;\
 n\nINCLUYE:\n\n 	Alquiler embarcación\n 	Patrona Profesional\n 	Seguro tr
 ipulantes\n\nNO INCLUYE\n\n 	Comida\n 	Gasoil\n 	Amarres y Boyas\n\n&nbsp\
 ;\n\nEl precio total para esta travesía es de 1250€\n\n&nbsp\;\n\nPara 
 más información puedes reservar una llamada desde el siguiente enlace y 
 te llamaremos:\n\nRESERVAR LLAMADA PARA MÁS INFORMACIÓN\n\n&nbsp\;\n\n
CATEGORIES:Grupo Cerrado,Travesías
END:VEVENT
BEGIN:VTIMEZONE
TZID:Europe/Madrid
X-LIC-LOCATION:Europe/Madrid
BEGIN:DAYLIGHT
DTSTART:20240331T030000
TZOFFSETFROM:+0100
TZOFFSETTO:+0200
TZNAME:CEST
END:DAYLIGHT
END:VTIMEZONE
END:VCALENDAR