BEGIN:VCALENDAR
VERSION:2.0
PRODID:-//wp-events-plugin.com//7.2.3.1//EN
TZID:Europe/Paris
X-WR-TIMEZONE:Europe/Paris
BEGIN:VEVENT
UID:830@alamarsailing.com
DTSTART;TZID=Europe/Madrid:20230729T150000
DTEND;TZID=Europe/Madrid:20230811T180000
DTSTAMP:20230731T121028Z
URL:https://alamarsailing.com/events/travesia-mallorca-y-menorca/
SUMMARY:Travesía Mallorca y Menorca
DESCRIPTION:Travesía de Exploración Mallorca y Menorca\, ideal para aquel
 las Mujeres Aventureras que tengan ganas de seguir aprendiendo sobre naveg
 ación a la vez que disfrutan de las mejores calas y sus paisajes. Estaré
 is involucradas en todo momento sobre las decisiones a tomar a bordo\, as
 í decidiremos entre todas la ruta exacta a navegar y las calas que visita
 remos según la meteorología que tengamos durante la semana para estar to
 das las noches bien resguardadas.\n\n&nbsp\;\n\nEmbarcación: Bavaria 50 p
 ies con 5 camarotes.\n\nSalida: Sábado 29 de julio 2023 a las 15h\n\nBarc
 o situado en el Port Olímpic de Barcelona\n\nLlegada: viernes  11 de ago
 sto por la tarde.\n\nOpción 1 o 2 semanas:\n\n 	Del 29 de julio al 5 de a
 gosto (Barcelona-Mallorca)\n 	Del 5 de agosto al 11 de agosto (Mallorca-Ba
 rcelona)\n\nPara pasajeros que realizan 1 semana:\n\n 	Desembarque el día
  5 por la mañana en Mallorca\n 	Desembarque el día 5 por la tarde en Mal
 lorca\n 	Recomendamos coger el ultimo vuelo de la tarde para abandonar la 
 isla y el primero de la mañana para venir\, ya que hay posibilidad de hac
 er alguna actividad durante el día una vez bajado\, para las que hacen la
  primera semana  y/o antes de subir al barco  para las que hacen la segu
 nda semana (no incluido en el precio y siempre opcional)\n\n*Recomendamos 
 coger vuelos con cancelación y cambios ya que dependemos 100% de la meteo
 rología y podemos encontrarnos factores que alteren la planificación ini
 cial.\n\nNos encargaremos de realizar las compras de la comida según las 
 preferencias de las tripulantes. Trataremos pasar las noches fondeando en 
 calas. Según meteo o la cala que queramos visitar se podrá amarrar en bo
 ya o atracar en puerto. Al final del viaje se dividirán los gastos extra
 s (comida\, gasoil\, amarres y boyas) entre todas (excluyendo la patrona).
 \n\n&nbsp\;\n\nINCLUYE:\n\n 	Alquiler embarcación\n 	Patrona Profesional\
 n 	Seguro tripulantes\n\nNO INCLUYE\n\n 	Comida\n 	Gasoil\n 	Amarres y Boy
 as\n\nEl precio total para esta travesía es de 1350€ por semana.\n\n&nb
 sp\;\n\n\n\n*Recomendamos contratar un seguro de cancelación de viajas\, 
 ya que no hacemos la devolución del importe.\n\n&nbsp\;\n\nPara más info
 rmación puedes reservar una llamada desde el siguiente enlace y te llamar
 emos:\n\nRESERVAR LLAMADA PARA MÁS INFORMACIÓN\n\n&nbsp\;
CATEGORIES:Travesías
END:VEVENT
BEGIN:VTIMEZONE
TZID:Europe/Madrid
X-LIC-LOCATION:Europe/Madrid
BEGIN:DAYLIGHT
DTSTART:20230326T030000
TZOFFSETFROM:+0100
TZOFFSETTO:+0200
TZNAME:CEST
END:DAYLIGHT
END:VTIMEZONE
END:VCALENDAR