BEGIN:VCALENDAR
VERSION:2.0
PRODID:-//wp-events-plugin.com//7.2.3.1//EN
TZID:Europe/Paris
X-WR-TIMEZONE:Europe/Paris
BEGIN:VEVENT
UID:1525@alamarsailing.com
DTSTART;TZID=Europe/Madrid:20250725T120000
DTEND;TZID=Europe/Madrid:20250810T120000
DTSTAMP:20250522T160522Z
URL:https://alamarsailing.com/events/travesia-ibiza-mallorca-y-menorca/
SUMMARY:Travesía Ibiza Mallorca y Menorca
DESCRIPTION:
CATEGORIES:Travesías,z Barco Alma,zz Patrona Carla
END:VEVENT
BEGIN:VTIMEZONE
TZID:Europe/Madrid
X-LIC-LOCATION:Europe/Madrid
BEGIN:DAYLIGHT
DTSTART:20250330T030000
TZOFFSETFROM:+0100
TZOFFSETTO:+0200
TZNAME:CEST
END:DAYLIGHT
END:VTIMEZONE
END:VCALENDAR