BEGIN:VCALENDAR
VERSION:2.0
PRODID:-//wp-events-plugin.com//7.2.3.1//EN
TZID:Europe/Paris
X-WR-TIMEZONE:Europe/Paris
BEGIN:VEVENT
UID:1052@alamarsailing.com
DTSTART;TZID=Europe/Madrid:20240706T150000
DTEND;TZID=Europe/Madrid:20240712T180000
DTSTAMP:20240430T073055Z
URL:https://alamarsailing.com/events/travesia-ibiza-formentera-6/
SUMMARY:TRAVESÍA IBIZA-FORMENTERA -
DESCRIPTION:Travesía de Exploración por Ibiza y Formentera\, ideal para a
 quellas Mujeres Aventureras que tengan ganas de seguir aprendiendo sobre n
 avegación a la vez que disfrutan de las mejores calas y sus paisajes. Est
 aréis involucradas en todo momento sobre las decisiones a tomar a bordo\,
  así decidiremos entre todas la ruta exacta a navegar y las calas que vis
 itaremos según la meteorología que tengamos durante la semana para estar
  todas las noches bien resguardadas.\n\n&nbsp\;\n\nEmbarcación: Bavaria 5
 0 pies con 5 camarotes y otro velero con 3 camarotes.\n\nSalida: sábado 6
  de julio 2024. Quedaremos a las 15h en el Barco situado en el Port Olímp
 ic de Barcelona para prepararlo y organizar las compras a bordo\, para zar
 par sobre las 16h. aproximadamente.\n\nLlegada: viernes 12 de julio por la
  tarde.\n\n&nbsp\;\n\nNos encargaremos de realizar las compras de la comid
 a según las preferencias de las tripulantes. Trataremos pasar las noches 
 fondeando en calas. Según meteo o la cala que queramos visitar se podrá 
 amarrar en boya\n\no atracar en puerto. Al final del viaje se dividirán l
 os gastos extras (comida\, gasoil\, amarres y boyas) entre todas (excluyen
 do la patrona).\n\n&nbsp\;\n\nINCLUYE:\n\n 	Alquiler embarcación\n 	Patro
 na Profesional\n 	Seguro tripulantes\n\nNO INCLUYE\n\n 	Comida\n 	Gasoil\n
  	Amarres y Boyas\n\n&nbsp\;\n\nEl precio total para esta travesía es de 
 1250€\n\n&nbsp\;\n\nPara más información puedes reservar una llamada d
 esde el siguiente enlace y te llamaremos:\n\nRESERVAR LLAMADA PARA MÁS IN
 FORMACIÓN\n\n&nbsp\;\n\n
CATEGORIES:Grupo Cerrado,Travesías
END:VEVENT
BEGIN:VTIMEZONE
TZID:Europe/Madrid
X-LIC-LOCATION:Europe/Madrid
BEGIN:DAYLIGHT
DTSTART:20240331T030000
TZOFFSETFROM:+0100
TZOFFSETTO:+0200
TZNAME:CEST
END:DAYLIGHT
END:VTIMEZONE
END:VCALENDAR