BEGIN:VCALENDAR
VERSION:2.0
PRODID:-//wp-events-plugin.com//7.2.3.1//EN
TZID:Europe/Paris
X-WR-TIMEZONE:Europe/Paris
BEGIN:VEVENT
UID:818@alamarsailing.com
DTSTART;TZID=Europe/Madrid:20230710T120000
DTEND;TZID=Europe/Madrid:20230716T150000
DTSTAMP:20230626T183742Z
URL:https://alamarsailing.com/events/travesia-ibiza-formentera-3/
SUMMARY:TRAVESÍA IBIZA-FORMENTERA
DESCRIPTION:Travesía de Exploración por Ibiza y Formentera\, ideal para a
 quellas Mujeres Aventureras que tengan ganas de seguir aprendiendo sobre n
 avegación a la vez que disfrutan de las mejores calas y sus paisajes. Est
 aréis involucradas en todo momento sobre las decisiones a tomar a bordo\,
  así decidiremos entre todas la ruta exacta a navegar y las calas que vis
 itaremos según la meteorología que tengamos durante la semana para estar
  todas las noches bien resguardadas.\n\n&nbsp\;\n\nEmbarcación: Bavaria 5
 0 pies con 5 camarotes.\n\nSalida: Lunes 10 de julio 2023. Quedaremos a la
 s 12h en el Barco situado en el Port Olímpic de Barcelona para prepararlo
  y organizar las compras a bordo\, para zarpar sobre las 15h.\n\nLlegada: 
 Domingo 16 de julio por la tarde.\n\n&nbsp\;\n\nNos encargaremos de realiz
 ar las compras de la comida según las preferencias de las tripulantes. Tr
 ataremos pasar las noches fondeando en calas. Según meteo o la cala que q
 ueramos visitar se podrá amarrar en boya\n\no atracar en puerto. Al final
  del viaje se dividirán los gastos extras (comida\, gasoil\, amarres y bo
 yas) entre todas (excluyendo la patrona).\n\n&nbsp\;\n\nINCLUYE:\n\n 	Alqu
 iler embarcación\n 	Patrona Profesional\n 	Seguro tripulantes\n\nNO INCLU
 YE\n\n 	Comida\n 	Gasoil\n 	Amarres y Boyas\n\n&nbsp\;\n\nEl precio total 
 para esta travesía es de 1350€\n\n&nbsp\;\n\nPara más información pue
 des reservar una llamada desde el siguiente enlace y te llamaremos:\n\nRES
 ERVAR LLAMADA PARA MÁS INFORMACIÓN\n\n&nbsp\;\n\n
CATEGORIES:Travesías,z Barco Iorana,zz Patrona Susana
END:VEVENT
BEGIN:VTIMEZONE
TZID:Europe/Madrid
X-LIC-LOCATION:Europe/Madrid
BEGIN:DAYLIGHT
DTSTART:20230326T030000
TZOFFSETFROM:+0100
TZOFFSETTO:+0200
TZNAME:CEST
END:DAYLIGHT
END:VTIMEZONE
END:VCALENDAR