BEGIN:VCALENDAR
VERSION:2.0
PRODID:-//wp-events-plugin.com//7.2.3.1//EN
TZID:Europe/Paris
X-WR-TIMEZONE:Europe/Paris
BEGIN:VEVENT
UID:1014@alamarsailing.com
DTSTART;TZID=Europe/Madrid:20231224T100000
DTEND;TZID=Europe/Madrid:20231225T150000
DTSTAMP:20231204T095244Z
URL:https://alamarsailing.com/events/travesia-de-navidad-2023/
SUMMARY:Travesía de Navidad 2023
DESCRIPTION:Una travesía llena de aventuras y aprendizajes. \n\nQuedaremo
 s el sábado 23 de diciembre en el PORT OLÍMPIC de Barcelona\, Pantalán 
 7\, amarre 704. Volveremos el lunes 25 de diciembre por la tarde.\n\nLa ru
 ta a navegar se definirá unos días antes según la previsión meteoroló
 gica\, la primera opción sería navegar hacia Sitges y dormir en puerto. 
 Según el viento que tengamos podremos definir las millas a navegar y lleg
 ar más o menos lejos. Otra opción sería navegar hacia Blanes según met
 eo.\n\nComo patrona irá Carla\, nuestra instructora de vela que tan bien 
 sabe transmitir su pasión por la navegación a vela y que todas acabáis 
 tan encantadas en sus cursos que volvéis a repetir.\n\n&nbsp\;\n\nEl prec
 io Incluye:\n\n 	Alquiler embarcación Albatross\n 	Patrona profesional co
 n instrucción en planificación de travesías y navegación a vela\n 	Seg
 uro del tripulante\n\nNo incluye:\n\n 	Comidas (10-15€/persona/día)\n 	
 Amarres (25-50€/barco/noche)\n 	Gasoil (20-40€ total)\n 	Dietas de la 
 Patrona (tanto en las comidas a bordo como en las comidas en tierra se inv
 itará a la patrona entre todas)\n\n&nbsp\;\n\n&nbsp\;
CATEGORIES:Travesías,z Barco Albatross,zz Patrona Carla
END:VEVENT
BEGIN:VTIMEZONE
TZID:Europe/Madrid
X-LIC-LOCATION:Europe/Madrid
BEGIN:STANDARD
DTSTART:20231029T020000
TZOFFSETFROM:+0200
TZOFFSETTO:+0100
TZNAME:CET
END:STANDARD
END:VTIMEZONE
END:VCALENDAR