BEGIN:VCALENDAR
VERSION:2.0
PRODID:-//wp-events-plugin.com//7.2.3.1//EN
TZID:Europe/Paris
X-WR-TIMEZONE:Europe/Paris
BEGIN:VEVENT
UID:1217@alamarsailing.com
DTSTART;TZID=Europe/Madrid:20240823T150000
DTEND;TZID=Europe/Madrid:20240825T180000
DTSTAMP:20240812T103033Z
URL:https://alamarsailing.com/events/travesia-costa-brava/
SUMMARY:TRAVESÍA COSTA BRAVA
DESCRIPTION:Travesía de Exploración por la Costa Brava\, el destino depen
 derá de la meteorología\, unos días antes se decidirá el rumbo\, ideal
  para aquellas Mujeres Aventureras que tengan ganas de seguir aprendiendo 
 sobre navegación a la vez que disfrutan de las mejores calas y sus paisaj
 es de la costa Brava. Estaréis involucradas en todo momento sobre las dec
 isiones a tomar a bordo\, así decidiremos entre todas la ruta exacta a na
 vegar y las calas que visitaremos según la meteorología que tengamos dur
 ante el fin de semana.\n\n&nbsp\;\n\nEmbarcación: Doufur 38 de 3 cabinas 
 dobles y un baño.\n\nSalida: Viernes 23 de AGOSTO 2024. Quedaremos en el 
 Barco situado en el Port de Badalona o Barcelona (según donde este el Alm
 a) para prepararlo y organizar las compras a bordo\, horario exacto por co
 nfirmar.\n\nLlegada: domingo 25 de agosto por la tarde.\n\n&nbsp\;\n\nNos 
 encargaremos de realizar las compras de la comida según las preferencias 
 de las tripulantes.\n\nAl final del viaje se dividirán los gastos extras 
 (comida\, gasoil) entre todas (excluyendo la patrona).\n\n&nbsp\;\n\nINCLU
 YE:\n\n 	Alquiler embarcación\n 	Patrona Profesional\n 	Seguro tripulante
 s\n\nNO INCLUYE\n\n 	Comida\n 	Gasoil\n\n&nbsp\;\n\nEl precio total para e
 sta travesía es de 416€\n\n&nbsp\;\n\nPara más información puedes res
 ervar una llamada desde el siguiente enlace y te llamaremos:\n\nRESERVAR L
 LAMADA PARA MÁS INFORMACIÓN\n\n&nbsp\;\n\n
CATEGORIES:Grupo Cerrado,Travesías,z Barco Alma,zz Patrona Carla
END:VEVENT
BEGIN:VTIMEZONE
TZID:Europe/Madrid
X-LIC-LOCATION:Europe/Madrid
BEGIN:DAYLIGHT
DTSTART:20240331T030000
TZOFFSETFROM:+0100
TZOFFSETTO:+0200
TZNAME:CEST
END:DAYLIGHT
END:VTIMEZONE
END:VCALENDAR