BEGIN:VCALENDAR
VERSION:2.0
PRODID:-//wp-events-plugin.com//7.2.3.1//EN
TZID:Europe/Paris
X-WR-TIMEZONE:Europe/Paris
BEGIN:VEVENT
UID:1216@alamarsailing.com
DTSTART;TZID=Europe/Madrid:20241004T150000
DTEND;TZID=Europe/Madrid:20241006T180000
DTSTAMP:20240919T192445Z
URL:https://alamarsailing.com/events/travesia-baleares/
SUMMARY:TRAVESÍA COSTA BRAVA
DESCRIPTION:Travesía de Exploración por la Costa Brava\, el destino depen
 derá de la meteorología\, unos días antes se decidirá el rumbo\, ideal
  para aquellas Mujeres Aventureras que tengan ganas de seguir aprendiendo 
 sobre navegación a la vez que disfrutan de las mejores calas y sus paisaj
 es de la costa Brava. Estaréis involucradas en todo momento sobre las dec
 isiones a tomar a bordo\, así decidiremos entre todas la ruta exacta a na
 vegar y las calas que visitaremos según la meteorología que tengamos dur
 ante el fin de semana. A navegar se aprende navegando\, únete a nosotras 
 y ¡suma millas!\n\n&nbsp\;\n\nEmbarcación: Doufur 38 de 3 cabinas dobles
  y un baño.\n\nSalida: Viernes 2o de SEPTIEMBRE 2024. Quedaremos en el Ba
 rco situado en el Port de Badalona para prepararlo y organizar las compras
  a bordo\, horario exacto por confirmar según la disponibilidad de las pa
 rticipantes.\n\nLlegada: domingo 22 de SEPTIEMBRE  por la tarde.\n\n&nbsp
 \;\n\nNos encargaremos de realizar las compras de la comida según las pre
 ferencias de las tripulantes.\n\nAl final del viaje se dividirán los gast
 os extras (comida\, gasoil) entre todas (excluyendo la patrona).\n\n&nbsp\
 ;\n\nINCLUYE:\n\n 	Alquiler embarcación\n 	Patrona Profesional\n 	Seguro 
 tripulantes\n\n&nbsp\;\n\nNO INCLUYE\n\n 	Comida\n 	Gasoil\n\n&nbsp\;\n\nE
 l precio total para esta travesía es de 416€\n\n&nbsp\;\n\nPara partici
 par en esta actividad debemos conocerte un poquito más para valorar tu ex
 periencia navegando y asegurarnos que el grupo en general tiene un nivel a
 decuado para realizar esta travesía.\n\n&nbsp\;\n\nPara que te conozcamos
  y podamos valorar si esta travesía es para ti y darte más información 
 puedes reservar una llamada desde el siguiente enlace y te llamaremos:\n\n
 RESERVAR LLAMADA PARA MÁS INFORMACIÓN\n\n&nbsp\;\n\n\n\n
CATEGORIES:Grupo Cerrado,Travesías,z Barco Alma,zz Patrona Carla
END:VEVENT
BEGIN:VTIMEZONE
TZID:Europe/Madrid
X-LIC-LOCATION:Europe/Madrid
BEGIN:DAYLIGHT
DTSTART:20240331T030000
TZOFFSETFROM:+0100
TZOFFSETTO:+0200
TZNAME:CEST
END:DAYLIGHT
END:VTIMEZONE
END:VCALENDAR