BEGIN:VCALENDAR
VERSION:2.0
PRODID:-//wp-events-plugin.com//7.2.3.1//EN
TZID:Europe/Paris
X-WR-TIMEZONE:Europe/Paris
BEGIN:VEVENT
UID:1117@alamarsailing.com
DTSTART;TZID=Europe/Madrid:20240531T180000
DTEND;TZID=Europe/Madrid:20240602T180000
DTSTAMP:20240427T074713Z
URL:https://alamarsailing.com/events/travesia-a-islas/
SUMMARY:Travesía a Islas
DESCRIPTION:Si tienes el Curso del PER y quieres ampliar tu titulación par
 a llevar barcos hasta 24m de eslora\, hasta las islas Baleares y aprender 
 a navegar\, este es tu curso oficial.\n\nSi ya tienes el PER y necesitas s
 umar millas y seguir aprendiendo también eres bienvenida.\n\nY si no tien
 es el PER pero quizás sea una idea futura también es para ti.\n\nVen y d
 isfruta de un fin de semana apasioante lleno de aprendizajes. Una experié
 ncia única en la que perderás la tierra de vista.\n\nInformación y rese
 rvas la 666390605 (Silvia) o al 629986926 (Susana)
ATTACH;FMTTYPE=image/jpeg:https://alamarsailing.com/wp-content/uploads/202
 2/10/ISLAS06-scaled-e1664926344230.jpg
CATEGORIES:Cursos PER,Travesías,z Barco Pendiente de Asignar,zz Patrona
 Carla,zz Patrona Susana
LOCATION:Alamar Sailing | Port Olímpic\, Moll de Xaloc\, Detrás del Parki
 ng | Amarre 217\, Port Olímpic Pantalán 7 Barcelona\, Barcelona\, Barcel
 ona\, 08005\, Susana: +34 629 986 926\, España
X-APPLE-STRUCTURED-LOCATION;VALUE=URI;X-ADDRESS=Port Olímpic Pantalán 7 B
 arcelona\, Barcelona\, Barcelona\, 08005\, Susana: +34 629 986 926\, Espa
 ña;X-APPLE-RADIUS=100;X-TITLE=Alamar Sailing | Port Olímpic\, Moll de Xa
 loc\, Detrás del Parking | Amarre 217:geo:0,0
END:VEVENT
BEGIN:VTIMEZONE
TZID:Europe/Madrid
X-LIC-LOCATION:Europe/Madrid
BEGIN:DAYLIGHT
DTSTART:20240331T030000
TZOFFSETFROM:+0100
TZOFFSETTO:+0200
TZNAME:CEST
END:DAYLIGHT
END:VTIMEZONE
END:VCALENDAR