BEGIN:VCALENDAR
VERSION:2.0
PRODID:-//wp-events-plugin.com//7.2.3.1//EN
TZID:Europe/Paris
X-WR-TIMEZONE:Europe/Paris
BEGIN:VEVENT
UID:699@alamarsailing.com
DTSTART;TZID=Europe/Madrid:20221223T100000
DTEND;TZID=Europe/Madrid:20221226T180000
DTSTAMP:20221219T221423Z
URL:https://alamarsailing.com/events/travesia-4-dias-sandra/
SUMMARY:travesía de Navidad - Sandra
DESCRIPTION:Nos vamos de travesía! Celebramos las fiestas de Navidad en el
  mar\, que según previsiones meteorológicas\, iremos a navegar  por la 
 costa Brava ó por costa Daurada . Saldremos el martes 23 por la tarde o e
 l 24 por la mañana\, según la meteo que nos sea más favorable des del M
 asnou con la embarcación AS\, un Bavaria 37 cruiser totalmente equipado c
 on 3 camarotes dobles y 1 baño. Haremos navegación durante el día hasta
  los diferentes puertos que pasemos la noche\, para poder pasear por la zo
 na cada día. El día 30 regresaremos a Masnou\, puerto base\, sobre las 1
 7 horas.\n\nVen preparada y no te olvides:\n\n 	Guantes de trabajo si quie
 res participar en las maniobras.\n 	Chaqueta\, cortavientos o anorak segú
 n las condiciones meteorológicas.\n 	Calzado cómodo antideslizante.\n 	R
 opa cómoda y mejor de abrigo para poder moverse ágilmente por la cubiert
 a.\n 	Biodramina si crees que puedes marearte.\n\nPrecio: 450 e por person
 a.\n\n&nbsp\;\n\nNo incluido:\n\n 	Amarres\n 	Compra conjunta para la comi
 da.\n 	Gasoil\n
LOCATION:Puerto Deportivo El Masnou\, Port Esportiu El Masnou s/n. 08320- E
 l Masnou\, El Masnou\, España
X-APPLE-STRUCTURED-LOCATION;VALUE=URI;X-ADDRESS=Port Esportiu El Masnou s/n
 . 08320- El Masnou\, El Masnou\, España;X-APPLE-RADIUS=100;X-TITLE=Puerto
  Deportivo El Masnou:geo:0,0
END:VEVENT
BEGIN:VTIMEZONE
TZID:Europe/Madrid
X-LIC-LOCATION:Europe/Madrid
BEGIN:STANDARD
DTSTART:20221030T020000
TZOFFSETFROM:+0200
TZOFFSETTO:+0100
TZNAME:CET
END:STANDARD
END:VTIMEZONE
END:VCALENDAR