BEGIN:VCALENDAR
VERSION:2.0
PRODID:-//wp-events-plugin.com//7.2.3.1//EN
TZID:Europe/Paris
X-WR-TIMEZONE:Europe/Paris
BEGIN:VEVENT
UID:696@alamarsailing.com
DTSTART;TZID=Europe/Madrid:20221208T100000
DTEND;TZID=Europe/Madrid:20221209T180000
DTSTAMP:20221201T174121Z
URL:https://alamarsailing.com/events/travesia-2-dias-sandra/
SUMMARY:travesía 2 días-Sandra
DESCRIPTION:Nos vamos de travesía! Aprovechando el puente de diciembre\, p
 odemos desconectar un par de días por la costa Brava (cambio de ruta seg
 ún meteo). Saldremos el jueves 8 de diciembre a las 10 horas des del Masn
 ou con la embarcación AS\, un Bavaria 37 cruiser totalmente equipado con 
 3 camarotes dobles y 1 baño. Haremos navegación hasta el puerto de Blane
 s\, donde allí entraremos a puerto para pasar la noche y poder pasear por
  el bonito pueblo. El día 9 saldremos por la mañana para navegar y llega
 r puerto de Masnou sobre las 18 horas.\n\nVen preparada y no te olvides:\n
 \n 	Guantes de trabajo si quieres participar en las maniobras.\n 	Chaqueta
 \, cortavientos o anorak según las condiciones meteorológicas.\n 	Calzad
 o cómodo antideslizante.\n 	Ropa cómoda y mejor de abrigo para poder mov
 erse ágilmente por la cubierta.\n 	Biodramina si crees que puedes mareart
 e.\n\nPrecio: 225 e por persona.\n\nNo incluido: Amarre noche del 8\n\nPos
 ibilidad de hacer compra conjunta para la comida.\n\nGasoil
LOCATION:Puerto Deportivo El Masnou\, Port Esportiu El Masnou s/n. 08320- E
 l Masnou\, El Masnou\, España
X-APPLE-STRUCTURED-LOCATION;VALUE=URI;X-ADDRESS=Port Esportiu El Masnou s/n
 . 08320- El Masnou\, El Masnou\, España;X-APPLE-RADIUS=100;X-TITLE=Puerto
  Deportivo El Masnou:geo:0,0
END:VEVENT
BEGIN:VTIMEZONE
TZID:Europe/Madrid
X-LIC-LOCATION:Europe/Madrid
BEGIN:STANDARD
DTSTART:20221030T020000
TZOFFSETFROM:+0200
TZOFFSETTO:+0100
TZNAME:CET
END:STANDARD
END:VTIMEZONE
END:VCALENDAR