BEGIN:VCALENDAR
VERSION:2.0
PRODID:-//wp-events-plugin.com//7.2.3.1//EN
TZID:Europe/Paris
X-WR-TIMEZONE:Europe/Paris
BEGIN:VEVENT
UID:551@alamarsailing.com
DTSTART;TZID=Europe/Madrid:20220526T190000
DTEND;TZID=Europe/Madrid:20220526T210000
DTSTAMP:20220512T114351Z
URL:https://alamarsailing.com/events/smm-meditacion-y-musica-en-directo-du
 rante-la-puesta-de-sol/
SUMMARY:SMM – Meditación y Música en Directo durante la Puesta de Sol
DESCRIPTION:Sunset\, Music &amp\; Meditation. Salimos a navegar durante la 
 puesta del Sol para conectar con nosotras mismas. Meditación guiada y mú
 sica en directo con Cristina Escalona y su guitarra. Ven a ReConectar.\n\n
 Las Sunset\, Music and Meditation (SMM) tienen una duración de dos hor
 as en las que introduciremos algunos conceptos básicos de navegación a
  vela para que los participantes que estén interesados puedan conocer es
 te mundo tan apasionante. A continuación\, saldremos desde el Port Olím
 pic de Barcelona y nos alejaremos de la ruidosa ciudad para adentrarnos 
 en el inmenso mar que nos traerá esa paz que tanto beneficio nos aporta.
 \n\nLlegado el momento\, practicaremos una pequeña meditación guiada q
 ue nos hará conectar con nosotros mismos y con la naturaleza que nos rode
 a.\n\nSeguiremos con música relajante en directo con nuestra/a invitado
 /a especial\, que nos hará vibrar en un mar de sensaciones. Sanando nuest
 ro cuerpo y alma.\n\nPara terminar\, nos tomaremos una infusión calentit
 a mientras disfrutamos de la navegación a vela antes de regresar a puert
 o.
CATEGORIES:Puesta de Sol
LOCATION:Alamar Sailing | Port Olímpic | Moll de Mestral | Amarre 1513\, P
 ort Olímpic \, Barcelona\, España
X-APPLE-STRUCTURED-LOCATION;VALUE=URI;X-ADDRESS=Port Olímpic \, Barcelona\
 , España;X-APPLE-RADIUS=100;X-TITLE=Alamar Sailing | Port Olímpic | Moll
  de Mestral | Amarre 1513:geo:0,0
END:VEVENT
BEGIN:VTIMEZONE
TZID:Europe/Madrid
X-LIC-LOCATION:Europe/Madrid
BEGIN:DAYLIGHT
DTSTART:20220327T030000
TZOFFSETFROM:+0100
TZOFFSETTO:+0200
TZNAME:CEST
END:DAYLIGHT
END:VTIMEZONE
END:VCALENDAR