BEGIN:VCALENDAR
VERSION:2.0
PRODID:-//wp-events-plugin.com//7.2.3.1//EN
TZID:Europe/Paris
X-WR-TIMEZONE:Europe/Paris
BEGIN:VEVENT
UID:702@alamarsailing.com
DTSTART;TZID=Europe/Madrid:20221207T103000
DTEND;TZID=Europe/Madrid:20221207T173000
DTSTAMP:20221205T215254Z
URL:https://alamarsailing.com/events/salida-todo-el-dia/
SUMMARY:Salida todo el día
DESCRIPTION:Saldremos desde el Port Olímpic con el velero eléctrico rumbo
  al Port Forum. Observaremos al Helimer como practica su operación de res
 cate con la Guardia Civil y después harán la práctica con nosotras. Atr
 acaremos en el Port Forum y bajaremos a comer el menú del día. Después 
 de comer zarparemos de vuelta al Port Olímpic.\n\nEl precio de esta activ
 idad NO incluye la comida.
CATEGORIES:Salida de Día Completo
END:VEVENT
BEGIN:VTIMEZONE
TZID:Europe/Madrid
X-LIC-LOCATION:Europe/Madrid
BEGIN:STANDARD
DTSTART:20221030T020000
TZOFFSETFROM:+0200
TZOFFSETTO:+0100
TZNAME:CET
END:STANDARD
END:VTIMEZONE
END:VCALENDAR