BEGIN:VCALENDAR
VERSION:2.0
PRODID:-//wp-events-plugin.com//7.2.3.1//EN
TZID:Europe/Paris
X-WR-TIMEZONE:Europe/Paris
BEGIN:VEVENT
UID:811@alamarsailing.com
DTSTART;TZID=Europe/Madrid:20230528T170000
DTEND;TZID=Europe/Madrid:20230528T200000
DTSTAMP:20230405T111808Z
URL:https://alamarsailing.com/events/salida-privada-cumpleanos/
SUMMARY:salida privada cumpleaños
DESCRIPTION:Navegación de 3h por el skyline de Barcelona el día 28 de may
 o de 17 a 20h\n\n&nbsp\;
CATEGORIES:Grupo Cerrado,Salida 2h
END:VEVENT
BEGIN:VTIMEZONE
TZID:Europe/Madrid
X-LIC-LOCATION:Europe/Madrid
BEGIN:DAYLIGHT
DTSTART:20230326T030000
TZOFFSETFROM:+0100
TZOFFSETTO:+0200
TZNAME:CEST
END:DAYLIGHT
END:VTIMEZONE
END:VCALENDAR