BEGIN:VCALENDAR
VERSION:2.0
PRODID:-//wp-events-plugin.com//7.2.3.1//EN
TZID:Europe/Paris
X-WR-TIMEZONE:Europe/Paris
BEGIN:VEVENT
UID:1149@alamarsailing.com
DTSTART;TZID=Europe/Madrid:20240601T110000
DTEND;TZID=Europe/Madrid:20240601T130000
DTSTAMP:20240528T113319Z
URL:https://alamarsailing.com/events/salida-privada-3h-ana-c/
SUMMARY:Salida Privada 3h - Ana C
DESCRIPTION:
CATEGORIES:z Barco Aurora,zz Patrona Vanessa
END:VEVENT
BEGIN:VTIMEZONE
TZID:Europe/Madrid
X-LIC-LOCATION:Europe/Madrid
BEGIN:DAYLIGHT
DTSTART:20240331T030000
TZOFFSETFROM:+0100
TZOFFSETTO:+0200
TZNAME:CEST
END:DAYLIGHT
END:VTIMEZONE
END:VCALENDAR