BEGIN:VCALENDAR
VERSION:2.0
PRODID:-//wp-events-plugin.com//7.2.3.1//EN
TZID:Europe/Paris
X-WR-TIMEZONE:Europe/Paris
BEGIN:VEVENT
UID:849@alamarsailing.com
DTSTART;TZID=Europe/Madrid:20230612T193000
DTEND;TZID=Europe/Madrid:20230612T213000
DTSTAMP:20230605T163121Z
URL:https://alamarsailing.com/events/salida-privada-2/
SUMMARY:Salida Privada
DESCRIPTION:Salida Privada de Celebración de 19:30h a 21:30h\n\nIncluye:\n
 \n-Patrona\n\n-Seguro\n\nhttps://alamarsailing.com/politica-de-cancelacion
 /
END:VEVENT
BEGIN:VTIMEZONE
TZID:Europe/Madrid
X-LIC-LOCATION:Europe/Madrid
BEGIN:DAYLIGHT
DTSTART:20230326T030000
TZOFFSETFROM:+0100
TZOFFSETTO:+0200
TZNAME:CEST
END:DAYLIGHT
END:VTIMEZONE
END:VCALENDAR