BEGIN:VCALENDAR
VERSION:2.0
PRODID:-//wp-events-plugin.com//7.2.3.1//EN
TZID:Europe/Paris
X-WR-TIMEZONE:Europe/Paris
BEGIN:VEVENT
UID:645@alamarsailing.com
DTSTART;TZID=Europe/Madrid:20221020T103000
DTEND;TZID=Europe/Madrid:20221020T123000
DTSTAMP:20221017T145930Z
URL:https://alamarsailing.com/events/salida-2h-116/
SUMMARY:Salida 2h
DESCRIPTION:Salimos desde el Masnou.\n\nEn tan solo unos minutos nos alejam
 os del ajetreo de la ciudad para desconectar y sentir el frescor del vient
 o salado en nuestras mejillas.\n\nSalimos 2h a navegar en el AS por la cos
 ta del Maresme para disfrutar del mar y de las maravillosas vistas del Sky
 line de la ciudad.\n\nEsta salida es imprescindible para aquellas personas
  que nunca han navegado y quieren probar y descubrir si esta afición les 
 gusta. También para aquellas aficionadas que quieran navegar a menudo y l
 es interese ir cogiendo soltura al timón.\n\nNo te lo pienses más y rese
 rva ya tu plaza.\n\n&nbsp\;\n\nVen preparada y no te olvides:\n\n 	Gorra.\
 n 	Gafas de sol.\n 	Protector solar.\n 	Guantes de trabajo si quieres part
 icipar en las maniobras.\n 	Chaqueta\, cortavientos o anorak según las co
 ndiciones meteorológicas.\n 	Calzado cómodo antideslizante.\n 	Ropa cóm
 oda para poder moverse ágilmente por la cubierta.\n 	Biodramina si crees 
 que puedes marearte.\n 	Bañador en verano.\n\nImportante: Para disfrutar
  mejor de tu experiencia\, te recomiendo que vengas descansada evitando la
  ingesta de alcohol la noche anterior. Desayuna bien y evita la leche. De 
 esta manera tendrás menos probabilidades de marearte.
LOCATION:Port Esportiu El Masnou\, Port Esportiu del Masnou\, S/N\, El Masn
 ou\, 08320\, Barcelona\, España
X-APPLE-STRUCTURED-LOCATION;VALUE=URI;X-ADDRESS=Port Esportiu del Masnou\, 
 S/N\, El Masnou\, 08320\, Barcelona\, España;X-APPLE-RADIUS=100;X-TITLE=P
 ort Esportiu El Masnou:geo:0,0
END:VEVENT
BEGIN:VTIMEZONE
TZID:Europe/Madrid
X-LIC-LOCATION:Europe/Madrid
BEGIN:DAYLIGHT
DTSTART:20220327T030000
TZOFFSETFROM:+0100
TZOFFSETTO:+0200
TZNAME:CEST
END:DAYLIGHT
END:VTIMEZONE
END:VCALENDAR