BEGIN:VCALENDAR
VERSION:2.0
PRODID:-//wp-events-plugin.com//7.2.3.1//EN
TZID:Europe/Paris
X-WR-TIMEZONE:Europe/Paris
BEGIN:VEVENT
UID:1120@alamarsailing.com
DTSTART;TZID=Europe/Paris:20240525T160000
DTEND;TZID=Europe/Paris:20240525T200000
DTSTAMP:20240429T140540Z
URL:https://alamarsailing.com/events/roca-completo-2/
SUMMARY:ROCA - COMPLETO
DESCRIPTION:
CATEGORIES:Cursos PER,Grupo Cerrado
LOCATION:Alamar Sailing | Moll de la Marina Local 11\, C/Aragó 433 princip
 al 2\, Barcelona\, Barcelona\, 08013\, Susana: +34 629 986 926\, España
X-APPLE-STRUCTURED-LOCATION;VALUE=URI;X-ADDRESS=C/Aragó 433 principal 2\, 
 Barcelona\, Barcelona\, 08013\, Susana: +34 629 986 926\, España;X-APPLE-
 RADIUS=100;X-TITLE=Alamar Sailing | Moll de la Marina Local 11:geo:0,0
END:VEVENT
BEGIN:VTIMEZONE
TZID:Europe/Paris
X-LIC-LOCATION:Europe/Paris
BEGIN:DAYLIGHT
DTSTART:20240331T030000
TZOFFSETFROM:+0100
TZOFFSETTO:+0200
TZNAME:CEST
END:DAYLIGHT
END:VTIMEZONE
END:VCALENDAR