BEGIN:VCALENDAR
VERSION:2.0
PRODID:-//wp-events-plugin.com//7.2.3.1//EN
TZID:Europe/Paris
X-WR-TIMEZONE:Europe/Paris
BEGIN:VEVENT
UID:848@alamarsailing.com
DTSTART;TZID=Europe/Paris:20230628T180000
DTEND;TZID=Europe/Paris:20230629T220000
DTSTAMP:20230626T181343Z
URL:https://alamarsailing.com/events/roca-2/
SUMMARY:ROCA
DESCRIPTION:Curso de Radio de corto alcance para  inscripción alumnas del
  PER a
CATEGORIES:Cursos PER,z Barco Albatross,zz Patrona Susana
LOCATION:Alamar Sailing | Moll de la Marina Local 11\, C/Aragó 433 princip
 al 2\, Barcelona\, Barcelona\, 08013\, Susana: +34 629 986 926\, España
X-APPLE-STRUCTURED-LOCATION;VALUE=URI;X-ADDRESS=C/Aragó 433 principal 2\, 
 Barcelona\, Barcelona\, 08013\, Susana: +34 629 986 926\, España;X-APPLE-
 RADIUS=100;X-TITLE=Alamar Sailing | Moll de la Marina Local 11:geo:0,0
END:VEVENT
BEGIN:VTIMEZONE
TZID:Europe/Paris
X-LIC-LOCATION:Europe/Paris
BEGIN:DAYLIGHT
DTSTART:20230326T030000
TZOFFSETFROM:+0100
TZOFFSETTO:+0200
TZNAME:CEST
END:DAYLIGHT
END:VTIMEZONE
END:VCALENDAR