BEGIN:VCALENDAR
VERSION:2.0
PRODID:-//wp-events-plugin.com//7.2.3.1//EN
TZID:Europe/Paris
X-WR-TIMEZONE:Europe/Paris
BEGIN:VEVENT
UID:1472@alamarsailing.com
DTSTART;TZID=Europe/Madrid:20250411T160000
DTEND;TZID=Europe/Madrid:20250411T200000
DTSTAMP:20250411T091653Z
URL:https://alamarsailing.com/events/roca-2-6/
SUMMARY:ROCA 2
DESCRIPTION:Clase Práctica Presencial. Calle Badajoz\, 32.\n\nEste curso e
 s obligatorio para obtener la titulación del PER. Consta de 4h teóricas 
 y 8h prácticas. Si quieres sacarte el PER con nosotras escríbenos a info
 @alamarsailing.com.
CATEGORIES:Cursos PER
END:VEVENT
BEGIN:VTIMEZONE
TZID:Europe/Madrid
X-LIC-LOCATION:Europe/Madrid
BEGIN:DAYLIGHT
DTSTART:20250330T030000
TZOFFSETFROM:+0100
TZOFFSETTO:+0200
TZNAME:CEST
END:DAYLIGHT
END:VTIMEZONE
END:VCALENDAR