BEGIN:VCALENDAR
VERSION:2.0
PRODID:-//wp-events-plugin.com//7.2.3.1//EN
TZID:Europe/Paris
X-WR-TIMEZONE:Europe/Paris
BEGIN:VEVENT
UID:620@alamarsailing.com
DTSTART;TZID=Europe/Madrid:20221106T100000
DTEND;TZID=Europe/Madrid:20221106T150000
DTSTAMP:20220927T091000Z
URL:https://alamarsailing.com/events/regata-puerto-olimpico-3/
SUMMARY:Regata Puerto Olímpico
DESCRIPTION:Participación en las regatas del Puerto Olímpico para las soc
 ias y/o no socias del club del equipo femenino.\n\nEn el caso de quedar pl
 azas disponibles de las socias\, podéis participar igualmente.\n\nEl prec
 io para socias es de 50 e/ 70 e no socias. Si te interesa ser parte de nue
 stro club\, envía un e mail a info@alamersailing.com y te mandamos toda l
 a información\n\nPunto de encuentro en el Puerto Olímpico pantalán 7 a 
 las 10 horas.
CATEGORIES:Regatas
END:VEVENT
BEGIN:VTIMEZONE
TZID:Europe/Madrid
X-LIC-LOCATION:Europe/Madrid
BEGIN:STANDARD
DTSTART:20221030T020000
TZOFFSETFROM:+0200
TZOFFSETTO:+0100
TZNAME:CET
END:STANDARD
END:VTIMEZONE
END:VCALENDAR