BEGIN:VCALENDAR
VERSION:2.0
PRODID:-//wp-events-plugin.com//7.2.3.1//EN
TZID:Europe/Paris
X-WR-TIMEZONE:Europe/Paris
BEGIN:VEVENT
UID:1276@alamarsailing.com
DTSTART;TZID=Europe/Madrid:20241101T100000
DTEND;TZID=Europe/Madrid:20241103T200000
DTSTAMP:20241009T135534Z
URL:https://alamarsailing.com/events/regata-golden-cup/
SUMMARY:REGATA GOLDEN CUP
DESCRIPTION:Si te interesa participar en esta regata escribe a info@alamars
 ailing.com para más info y entrar en el proceso de selección. No se acep
 tarán inscripciones desde la web directamente.
CATEGORIES:Grupo Cerrado,z Barco Alma,zz Patrona Carla
LOCATION:Marina Badalona Pantalán B\, Marina Badalona Pantalán B\, Badalo
 na\, España
X-APPLE-STRUCTURED-LOCATION;VALUE=URI;X-ADDRESS=Marina Badalona Pantalán B
 \, Badalona\, España;X-APPLE-RADIUS=100;X-TITLE=Marina Badalona Pantalán
  B:geo:0,0
END:VEVENT
BEGIN:VTIMEZONE
TZID:Europe/Madrid
X-LIC-LOCATION:Europe/Madrid
BEGIN:STANDARD
DTSTART:20241027T020000
TZOFFSETFROM:+0200
TZOFFSETTO:+0100
TZNAME:CET
END:STANDARD
END:VTIMEZONE
END:VCALENDAR