BEGIN:VCALENDAR
VERSION:2.0
PRODID:-//wp-events-plugin.com//7.2.3.1//EN
TZID:Europe/Paris
X-WR-TIMEZONE:Europe/Paris
BEGIN:VEVENT
UID:1128@alamarsailing.com
DTSTART;TZID=Europe/Madrid:20240608T093000
DTEND;TZID=Europe/Madrid:20240608T170000
DTSTAMP:20240528T113113Z
URL:https://alamarsailing.com/events/regata-4to-aniversario-salida-en-j70/
SUMMARY:REGATA 4to Aniversario Salida en J70
DESCRIPTION:ESTE GRUPO ESTÁ RESERVADO PARA LAS MUJERES QUE YA TENGAN EXPER
 IENCIA EN NAVEGAR CON UN J70\n\nEl precio incluye:\n\nUn mes de formacione
 s online gratuitas en directo que quedarán grabadas. Empezamos el 8 de ma
 yo.\nReunión de patronas y tripulaciones con desayuno.\nCharla presentaci
 ón a la regata\, normativa\, desarrollo e instrucciones.\nCampo de regata
 s barlovento-sotavento con juez de regatas oficial.\nGrabación de la comp
 etición con dron de cine profesional.\nCámara profesional en tierra dura
 nte el evento para fotos de equipo.\nPosibilidad de baño en alta mar seg
 ún meteo.\nFiesta final con catering y entrega de premios.\n
LOCATION:Port Olímpic de Barcelona\, Moll de Mestral\, local Auditorio\, b
 ajando la rampa de acceso para coches a mano izquierda\, Barcelona\, 08005
 \, España
X-APPLE-STRUCTURED-LOCATION;VALUE=URI;X-ADDRESS=Moll de Mestral\, local Aud
 itorio\, bajando la rampa de acceso para coches a mano izquierda\, Barcelo
 na\, 08005\, España;X-APPLE-RADIUS=100;X-TITLE=Port Olímpic de Barcelona
 :geo:0,0
END:VEVENT
BEGIN:VTIMEZONE
TZID:Europe/Madrid
X-LIC-LOCATION:Europe/Madrid
BEGIN:DAYLIGHT
DTSTART:20240331T030000
TZOFFSETFROM:+0100
TZOFFSETTO:+0200
TZNAME:CEST
END:DAYLIGHT
END:VTIMEZONE
END:VCALENDAR