BEGIN:VCALENDAR
VERSION:2.0
PRODID:-//wp-events-plugin.com//7.2.3.1//EN
TZID:Europe/Paris
X-WR-TIMEZONE:Europe/Paris
BEGIN:VEVENT
UID:1314@alamarsailing.com
DTSTART;TZID=Europe/Paris:20241124T090000
DTEND;TZID=Europe/Paris:20241124T180000
DTSTAMP:20241105T114447Z
URL:https://alamarsailing.com/events/practicas-per-04-recuperacion/
SUMMARY:Prácticas PER 04
DESCRIPTION:Prácticas oficiales del PER en Seguridad y Navegación. Distri
 buidas en dos sesiones de 8h.\n\nTraer tupper o bocadillo\, pararemos una 
 hora para comer.\n\nEste precio es para NO alumnas. Si quieres sacarte el 
 PER con nosotras\, reserva una llamada desde el siguiente enlace y te ases
 oraremos personalmente.\n\nalamar-sailing.youcanbook.me\n\n&nbsp\;\n\nUbic
 ación: https://maps.app.goo.gl/rhCKSqj846RbF29CA
CATEGORIES:Cursos PER,z Barco Albatross,zz Patrona Susana
LOCATION:Alamar Sailing | Port Olímpic\, Moll de Xaloc\, Detrás del Parki
 ng | Amarre 217\, Port Olímpic Pantalán 7 Barcelona\, Barcelona\, Barcel
 ona\, 08005\, Susana: +34 629 986 926\, España
X-APPLE-STRUCTURED-LOCATION;VALUE=URI;X-ADDRESS=Port Olímpic Pantalán 7 B
 arcelona\, Barcelona\, Barcelona\, 08005\, Susana: +34 629 986 926\, Espa
 ña;X-APPLE-RADIUS=100;X-TITLE=Alamar Sailing | Port Olímpic\, Moll de Xa
 loc\, Detrás del Parking | Amarre 217:geo:0,0
END:VEVENT
BEGIN:VTIMEZONE
TZID:Europe/Paris
X-LIC-LOCATION:Europe/Paris
BEGIN:STANDARD
DTSTART:20241027T020000
TZOFFSETFROM:+0200
TZOFFSETTO:+0100
TZNAME:CET
END:STANDARD
END:VTIMEZONE
END:VCALENDAR