BEGIN:VCALENDAR
VERSION:2.0
PRODID:-//wp-events-plugin.com//7.2.3.1//EN
TZID:Europe/Paris
X-WR-TIMEZONE:Europe/Paris
BEGIN:VEVENT
UID:1038@alamarsailing.com
DTSTART;TZID=Europe/Madrid:20240323T100000
DTEND;TZID=Europe/Madrid:20240324T180000
DTSTAMP:20240206T143610Z
URL:https://alamarsailing.com/events/practicas-oficiales-per/
SUMMARY:Prácticas Oficiales PER
DESCRIPTION:Curso Oficial del PER\, prácticas de seguridad y navegación 1
 6h. Solo para alumnas inscritas en el curso del PER. Una vez confirmada tu
  plaza ésta queda reservada exclusivamente para ti. El curso se realiza e
 n grupos reducidos de máximo 6 alumnos. La no asistencia a este curso una
  vez reservado hará que se tenga que volver a abonar el importe del curso
  para poder recuperarlo. Consultar política de cancelación.
CATEGORIES:Cursos PER,z Barco Albatross,zz Patrona Carla,zz Patrona Lis,zz
 Patrona Susana
LOCATION:Alamar Sailing | Port Olímpic\, Moll de Xaloc\, Detrás del Parki
 ng | Amarre 217\, Port Olímpic Pantalán 7 Barcelona\, Barcelona\, Barcel
 ona\, 08005\, Susana: +34 629 986 926\, España
X-APPLE-STRUCTURED-LOCATION;VALUE=URI;X-ADDRESS=Port Olímpic Pantalán 7 B
 arcelona\, Barcelona\, Barcelona\, 08005\, Susana: +34 629 986 926\, Espa
 ña;X-APPLE-RADIUS=100;X-TITLE=Alamar Sailing | Port Olímpic\, Moll de Xa
 loc\, Detrás del Parking | Amarre 217:geo:0,0
END:VEVENT
BEGIN:VTIMEZONE
TZID:Europe/Madrid
X-LIC-LOCATION:Europe/Madrid
BEGIN:STANDARD
DTSTART:20231029T020000
TZOFFSETFROM:+0200
TZOFFSETTO:+0100
TZNAME:CET
END:STANDARD
END:VTIMEZONE
END:VCALENDAR