BEGIN:VCALENDAR
VERSION:2.0
PRODID:-//wp-events-plugin.com//7.2.3.1//EN
TZID:Europe/Paris
X-WR-TIMEZONE:Europe/Paris
BEGIN:VEVENT
UID:746@alamarsailing.com
DTSTART;TZID=Europe/Madrid;VALUE=DATE:20230403
DTEND;TZID=Europe/Madrid;VALUE=DATE:20230410
DTSTAMP:20230214T111031Z
URL:https://alamarsailing.com/events/per-intensivo-semana-santa/
SUMMARY:PER Intensivo Semana Santa
DESCRIPTION:INCLUYE:\n\n 	Teoría online con seguimiento del 13 de marzo al
  21 de abril (examen es el 22 de abril 2023)\n 	Prácticas de Motor 16h\n 
 	Curso de Radio Operador de Corto Alcance (ROCA)\n 	Prácticas de Vela 16h
 \n 	Travesía a Islas (del 7 abril 16h al 9 de abril a las 16h)\n\nPre-res
 ervas abiertas. Entra en el grupo de whatsapp para conseguir tu plaza con 
 una oferta irresistible.\n\nUNIRME AL GRUPO DE WHATSAPP\n\n&nbsp\;\n\n&nbs
 p\;\n\n&nbsp\;
END:VEVENT
BEGIN:VTIMEZONE
TZID:Europe/Madrid
X-LIC-LOCATION:Europe/Madrid
BEGIN:DAYLIGHT
DTSTART:20230326T030000
TZOFFSETFROM:+0100
TZOFFSETTO:+0200
TZNAME:CEST
END:DAYLIGHT
END:VTIMEZONE
END:VCALENDAR