BEGIN:VCALENDAR
VERSION:2.0
PRODID:-//wp-events-plugin.com//7.2.3.1//EN
TZID:Europe/Paris
X-WR-TIMEZONE:Europe/Paris
BEGIN:VEVENT
UID:525@alamarsailing.com
DTSTART;TZID=Europe/Paris;VALUE=DATE:20220620
DTEND;TZID=Europe/Paris;VALUE=DATE:20220627
DTSTAMP:20220510T121222Z
URL:https://alamarsailing.com/events/per-a-bordo-2/
SUMMARY:PER A BORDO
DESCRIPTION:Para reservar una plaza\, por favor\, entra en el siguiente enl
 ace donde encontrarás toda la información detallada sobre este curso y r
 eserva una llamada en la fecha que más te convenga. Te llamaremos para so
 lucionar todas tus dudas y confirmar tu plaza.\n\nhttps://alamarsailing.co
 m/info-per-a-bordo/\n\n&nbsp\;
CATEGORIES:Cursos PER
LOCATION:Alamar Sailing | Port Olímpic\, Moll de Xaloc\, Detrás del Parki
 ng | Amarre 217\, Port Olímpic Pantalán 7 Barcelona\, Barcelona\, Barcel
 ona\, 08005\, Susana: +34 629 986 926\, España
X-APPLE-STRUCTURED-LOCATION;VALUE=URI;X-ADDRESS=Port Olímpic Pantalán 7 B
 arcelona\, Barcelona\, Barcelona\, 08005\, Susana: +34 629 986 926\, Espa
 ña;X-APPLE-RADIUS=100;X-TITLE=Alamar Sailing | Port Olímpic\, Moll de Xa
 loc\, Detrás del Parking | Amarre 217:geo:0,0
END:VEVENT
BEGIN:VTIMEZONE
TZID:Europe/Paris
X-LIC-LOCATION:Europe/Paris
BEGIN:DAYLIGHT
DTSTART:20220327T030000
TZOFFSETFROM:+0100
TZOFFSETTO:+0200
TZNAME:CEST
END:DAYLIGHT
END:VTIMEZONE
END:VCALENDAR