BEGIN:VCALENDAR
VERSION:2.0
PRODID:-//wp-events-plugin.com//7.2.3.1//EN
TZID:Europe/Paris
X-WR-TIMEZONE:Europe/Paris
BEGIN:VEVENT
UID:835@alamarsailing.com
DTSTART;TZID=Europe/Madrid:20230701T100000
DTEND;TZID=Europe/Madrid:20230701T130000
DTSTAMP:20230627T160143Z
URL:https://alamarsailing.com/events/navegacion-3er-aniversario-mujeres-al
 amar/
SUMMARY:3er aniversario MUJERES ALAMAR
DESCRIPTION:Un día especial\, para celebrar juntas los tres años de Mujer
 es Alamar.\n\nSalimos todas las apasionadas del mar a navegar juntas!\n\n1
  de julio de 2023\n\nINCLUYE:  Salida Navegación de 10 a 13h.\n\n*A la 
 llegada tendréis opciones de comida y bebida más Networking opcional (n
 o incluido en el precio)\n\nIndícanos tu talla de camiseta al teléfono 6
 66390605 (Reservas Alamar Sailing)\n\n&nbsp\;\n\nNos vemos pronto… MUJER
 ES ALAMAR!\n\n&nbsp\;\n\n
CATEGORIES:4h de Navegación,Grupo Cerrado,z Barco Albatross,z Barco
 Antares,z Barco Pendiente de Asignar,zz Patrona Carla,zz Patrona
 Claudia,zz Patrona Pendiente de Asignar,zz Patrona Susana,zz Patrona
 Vanessa
END:VEVENT
BEGIN:VTIMEZONE
TZID:Europe/Madrid
X-LIC-LOCATION:Europe/Madrid
BEGIN:DAYLIGHT
DTSTART:20230326T030000
TZOFFSETFROM:+0100
TZOFFSETTO:+0200
TZNAME:CEST
END:DAYLIGHT
END:VTIMEZONE
END:VCALENDAR