BEGIN:VCALENDAR
VERSION:2.0
PRODID:-//wp-events-plugin.com//7.2.3.1//EN
TZID:Europe/Paris
X-WR-TIMEZONE:Europe/Paris
BEGIN:VEVENT
UID:578@alamarsailing.com
DTSTART;TZID=Europe/Madrid:20220723T090000
DTEND;TZID=Europe/Madrid:20220723T110000
DTSTAMP:20220706T094445Z
URL:https://alamarsailing.com/events/maniobras/
SUMMARY:Maniobras
DESCRIPTION:Practicas de maniobras en puerto. Atracar\, destracar\, ciaboga
 r\, abarloarse a la gasolinera. Gana confianza al timón.
END:VEVENT
BEGIN:VTIMEZONE
TZID:Europe/Madrid
X-LIC-LOCATION:Europe/Madrid
BEGIN:DAYLIGHT
DTSTART:20220327T030000
TZOFFSETFROM:+0100
TZOFFSETTO:+0200
TZNAME:CEST
END:DAYLIGHT
END:VTIMEZONE
END:VCALENDAR