BEGIN:VCALENDAR
VERSION:2.0
PRODID:-//wp-events-plugin.com//7.2.3.1//EN
TZID:Europe/Paris
X-WR-TIMEZONE:Europe/Paris
BEGIN:VEVENT
UID:936@alamarsailing.com
DTSTART;TZID=Europe/Madrid:20231004T163000
DTEND;TZID=Europe/Madrid:20231004T193000
DTSTAMP:20231001T155205Z
URL:https://alamarsailing.com/events/maniobras-completo-11/
SUMMARY:Maniobras - COMPLETO
DESCRIPTION:
CATEGORIES:Barcos,Curso Maniobras,Grupo Cerrado,z Barco Albatross,zz
 Patrona Susana
END:VEVENT
BEGIN:VTIMEZONE
TZID:Europe/Madrid
X-LIC-LOCATION:Europe/Madrid
BEGIN:DAYLIGHT
DTSTART:20230326T030000
TZOFFSETFROM:+0100
TZOFFSETTO:+0200
TZNAME:CEST
END:DAYLIGHT
END:VTIMEZONE
END:VCALENDAR