BEGIN:VCALENDAR
VERSION:2.0
PRODID:-//wp-events-plugin.com//7.2.3.1//EN
TZID:Europe/Paris
X-WR-TIMEZONE:Europe/Paris
BEGIN:VEVENT
UID:970@alamarsailing.com
DTSTART;TZID=Europe/Madrid:20231029T100000
DTEND;TZID=Europe/Madrid:20231029T180000
DTSTAMP:20231027T113910Z
URL:https://alamarsailing.com/events/maniobras-5/
SUMMARY:Maniobras
DESCRIPTION:Curso de Maniobras en Puerto de 8h
CATEGORIES:Curso Maniobras,z Barco Albatross,zz Patrona Susana
END:VEVENT
BEGIN:VTIMEZONE
TZID:Europe/Madrid
X-LIC-LOCATION:Europe/Madrid
BEGIN:STANDARD
DTSTART:20231029T020000
TZOFFSETFROM:+0200
TZOFFSETTO:+0100
TZNAME:CET
END:STANDARD
END:VTIMEZONE
END:VCALENDAR