BEGIN:VCALENDAR
VERSION:2.0
PRODID:-//wp-events-plugin.com//7.2.3.1//EN
TZID:Europe/Paris
X-WR-TIMEZONE:Europe/Paris
BEGIN:VEVENT
UID:743@alamarsailing.com
DTSTART;TZID=Europe/Madrid:20230318T100000
DTEND;TZID=Europe/Madrid:20230318T120000
DTSTAMP:20230214T100745Z
URL:https://alamarsailing.com/events/maniobras-3/
SUMMARY:Maniobras - COMPLETO
DESCRIPTION:GRUPO COMPLETO Y CERRADO PARA LAS SIGUIENTES FECHAS:\n\n11 marz
 o de 10h a 12h\n\n18 marzo de 10h a 12h\n\n1 abril de 17h a 19h\n\n15 abri
 l de 10h a 12h\n\n&nbsp\;\n\nCurso de Maniobras a Motor para coger confian
 za al timón. Ideal para alumnas del PER que quieran terminar de coger sol
 tura en las maniobras en puerto. Curso de 8h en grupos reducidos de máxim
 o 4 alumnas.\n\nEste curso se reserva bajo demanda. Puedes pre-reservar tu
  plaza en el siguiente enlace y te llamaremos para organizar las fechas.\n
 \nhttps://alamarsailing.com/producto/pack-practicas-en-grupos-reducidos-8h
 /\n\nMás información por Whatsapp:\n\n+34 666 39 06 05
ATTACH;FMTTYPE=image/jpeg:https://alamarsailing.com/wp-content/uploads/202
 2/01/Agatha-Vela.jpeg
CATEGORIES:Curso Maniobras,Grupo Cerrado
LOCATION:Alamar Sailing | Port Olímpic\, Moll de Xaloc\, Detrás del Parki
 ng | Amarre 217\, Port Olímpic Pantalán 7 Barcelona\, Barcelona\, Barcel
 ona\, 08005\, Susana: +34 629 986 926\, España
X-APPLE-STRUCTURED-LOCATION;VALUE=URI;X-ADDRESS=Port Olímpic Pantalán 7 B
 arcelona\, Barcelona\, Barcelona\, 08005\, Susana: +34 629 986 926\, Espa
 ña;X-APPLE-RADIUS=100;X-TITLE=Alamar Sailing | Port Olímpic\, Moll de Xa
 loc\, Detrás del Parking | Amarre 217:geo:0,0
END:VEVENT
BEGIN:VTIMEZONE
TZID:Europe/Madrid
X-LIC-LOCATION:Europe/Madrid
BEGIN:STANDARD
DTSTART:20221030T020000
TZOFFSETFROM:+0200
TZOFFSETTO:+0100
TZNAME:CET
END:STANDARD
END:VTIMEZONE
END:VCALENDAR