BEGIN:VCALENDAR
VERSION:2.0
PRODID:-//wp-events-plugin.com//7.2.3.1//EN
TZID:Europe/Paris
X-WR-TIMEZONE:Europe/Paris
BEGIN:VEVENT
UID:604@alamarsailing.com
DTSTART;TZID=Europe/Paris;VALUE=DATE:20221021
DTEND;TZID=Europe/Paris;VALUE=DATE:20221024
DTSTAMP:20220928T165806Z
URL:https://alamarsailing.com/events/habilitacion-islas-vela-48h-4/
SUMMARY:Habilitación ISLAS + VELA 48h
DESCRIPTION:Amplia atribuciones para tu titulación del PER. Podrás navega
 r hasta las Islas Baleares y obtendrás la habilitación a Vela.\n\nNos en
 contraremos en el Port Olímpic a las 18h. Antes de zarpar\, nos presentar
 emos\, haremos un breefing en seguridad e introduciremos los conceptos bá
 sicos de la navegación a vela. Comprobaremos la meteo entre todas y traza
 remos nuestro rumbo.\n\nNavegaremos durante toda la noche haciendo guardia
 s en grupos de dos o tres personas. Por la mañana\, después de desayunar
  continuaremos con prácticas de vela antes de llegar a nuestro destino. E
 l sábado al medio día\, si es posible bajaremos a tierra a comer. Por la
  tarde continuaremos con las prácticas de vela y nos prepararemos para vo
 lver hacia la noche. Llegaremos a Barcelona el domingo por la tarde.\n\n&n
 bsp\;\n\nINCLUYE\n\n 	Curso de Navegación a Vela y Ampliación a Islas 48
 h\n 	Gasoil\n 	Seguro de tripulantes\n\n&nbsp\;\n\nNO INCLUYE\n\n 	Comida\
 n 	Tasa de tramitación\n 	Certificado médico\n
CATEGORIES:Grupo Cerrado
LOCATION:Alamar Sailing | Port Olímpic\, Moll de Xaloc\, Detrás del Parki
 ng | Amarre 217\, Port Olímpic Pantalán 7 Barcelona\, Barcelona\, Barcel
 ona\, 08005\, Susana: +34 629 986 926\, España
X-APPLE-STRUCTURED-LOCATION;VALUE=URI;X-ADDRESS=Port Olímpic Pantalán 7 B
 arcelona\, Barcelona\, Barcelona\, 08005\, Susana: +34 629 986 926\, Espa
 ña;X-APPLE-RADIUS=100;X-TITLE=Alamar Sailing | Port Olímpic\, Moll de Xa
 loc\, Detrás del Parking | Amarre 217:geo:0,0
END:VEVENT
BEGIN:VTIMEZONE
TZID:Europe/Paris
X-LIC-LOCATION:Europe/Paris
BEGIN:DAYLIGHT
DTSTART:20220327T030000
TZOFFSETFROM:+0100
TZOFFSETTO:+0200
TZNAME:CEST
END:DAYLIGHT
END:VTIMEZONE
END:VCALENDAR