BEGIN:VCALENDAR
VERSION:2.0
PRODID:-//wp-events-plugin.com//7.2.3.1//EN
TZID:Europe/Paris
X-WR-TIMEZONE:Europe/Paris
BEGIN:VEVENT
UID:638@alamarsailing.com
DTSTART;TZID=Europe/Madrid:20221029T150000
DTEND;TZID=Europe/Madrid:20221029T190000
DTSTAMP:20221003T130645Z
URL:https://alamarsailing.com/events/expedicion-conoce-el-mar-y-sus-amenaz
 as-2/
SUMMARY:Expedición: Conoce el mar y sus amenazas
DESCRIPTION:Nueva colaboración con las biólogas de @proyectovelella\n\nEx
 pedición para conocer y comprender mejor el mar y sus amenazas.\n\n¿Sab
 ías que las segunda ballena más grande del mundo visita cada año las co
 stas de Cataluña para alimentarse?\n\n¿Conoces la cantidad de vida que p
 uede haber en una gota de agua?\n\nA lo largo de una expedición de 4h\, h
 ablaremos sobre el ecosistema marino del Mediterráneo y aprenderemos a id
 entificar las especies que nos encontremos. Microscopio y prismáticos dis
 ponibles a bordo.\n\nAdemás\, aprovecharemos para poner a prueba nuestras
  habilidades de navegación\, recogiendo los residuos que podamos detectar
 \, aportando así nuestro granito de arena en favor del mar.\n\n&nbsp\;\n\
 n¿Qué incluye?\n\n 	Salida de 4h en velero con patrona profesional\n 	Bi
 óloga a bordo\n 	Curso introductorio sobre las especies del mar mediterr
 áneo y cómo protegerlo\n 	Donación de 10€ al proyecto para la creaci
 ón de material divulgativo\n 	Pequeño obsequio de recuerdo\n\n&nbsp\;\n\
 n¿Qué traer?\n\n 	Calzado cómodo\, cerrado y antideslizante para movers
 e por el barco\n 	protector solar\n 	gorra\n 	gafas de sol\n 	paraviento o
  abrigo según época del año\n 	agua\n 	merienda (opcional)\n 	móvil o 
 cámara fotográfica (opcional)\n 	Biodramina o Strugeron si crees que pue
 des marearte\n\n&nbsp\;\n\nLa salida podrá ser aplazada por motivos meteo
 rológicos. Recuerda consultar nuestra política de cancelación antes de 
 confirmar tu reserva.\n\n&nbsp\;
ATTACH;FMTTYPE=image/jpeg:https://alamarsailing.com/wp-content/uploads/202
 1/12/20211024_135734-scaled.jpg
CATEGORIES:Expediciones y Avistamientos
LOCATION:Alamar Sailing | Port Olímpic\, Moll de Xaloc\, Detrás del Parki
 ng | Amarre 217\, Port Olímpic Pantalán 7 Barcelona\, Barcelona\, Barcel
 ona\, 08005\, Susana: +34 629 986 926\, España
X-APPLE-STRUCTURED-LOCATION;VALUE=URI;X-ADDRESS=Port Olímpic Pantalán 7 B
 arcelona\, Barcelona\, Barcelona\, 08005\, Susana: +34 629 986 926\, Espa
 ña;X-APPLE-RADIUS=100;X-TITLE=Alamar Sailing | Port Olímpic\, Moll de Xa
 loc\, Detrás del Parking | Amarre 217:geo:0,0
END:VEVENT
BEGIN:VTIMEZONE
TZID:Europe/Madrid
X-LIC-LOCATION:Europe/Madrid
BEGIN:DAYLIGHT
DTSTART:20220327T030000
TZOFFSETFROM:+0100
TZOFFSETTO:+0200
TZNAME:CEST
END:DAYLIGHT
END:VTIMEZONE
END:VCALENDAR