BEGIN:VCALENDAR
VERSION:2.0
PRODID:-//wp-events-plugin.com//7.2.3.1//EN
TZID:Europe/Paris
X-WR-TIMEZONE:Europe/Paris
BEGIN:VEVENT
UID:1514@alamarsailing.com
DTSTART;TZID=Europe/Madrid:20250614T093000
DTEND;TZID=Europe/Madrid:20250615T140000
DTSTAMP:20250603T194342Z
URL:https://alamarsailing.com/events/evento-5to-aniversario-mujeres-alamar
 /
SUMMARY:Evento 5to Aniversario Mujeres Alamar
DESCRIPTION:Primeras 20 plazas en preventa para la salida en nuestros 3 vel
 eros a aprecio especial. Después el precio se adaptará según el precio 
 que nos cueste el alquiler de las embarcaciones extra.
ATTACH;FMTTYPE=image/jpeg:https://alamarsailing.com/wp-content/uploads/202
 4/12/ALAMAR-SAILING_0.png
CATEGORIES:Travesías,z Barco Albatross,z Barco Alma,z Barco Aurora,zz
 Patrona Carla,zz Patrona Claudia,zz Patrona Lis,zz Patrona Susana,zz
 Patrona Vanessa
END:VEVENT
BEGIN:VTIMEZONE
TZID:Europe/Madrid
X-LIC-LOCATION:Europe/Madrid
BEGIN:DAYLIGHT
DTSTART:20250330T030000
TZOFFSETFROM:+0100
TZOFFSETTO:+0200
TZNAME:CEST
END:DAYLIGHT
END:VTIMEZONE
END:VCALENDAR