BEGIN:VCALENDAR
VERSION:2.0
PRODID:-//wp-events-plugin.com//7.2.3.1//EN
TZID:Europe/Paris
X-WR-TIMEZONE:Europe/Paris
BEGIN:VEVENT
UID:1577@alamarsailing.com
DTSTART;TZID=Europe/Madrid:20250719T100000
DTEND;TZID=Europe/Madrid:20250719T140000
DTSTAMP:20250710T112241Z
URL:https://alamarsailing.com/events/entreno-de-navegacion-a-vela-7/
SUMMARY:Entreno de Navegación a Vela
DESCRIPTION:Entrenos mensuales de navegación a vela para las socias del Cl
 ub de Navegación.\n\nMás info: info@alamarsailing.com\n\n&nbsp\;
CATEGORIES:Entreno Regatas,z Barco Aurora,zz Patrona Carla
LOCATION:Barco Aurora | Port Olímpic\, Moll de Xaloc\, Pantalán 6\, Amarr
 e 606 | 08005 Barcelona\, Moll de Xaloc\, Pantalán 6\, Amarrre 606\, Barc
 elona\, Barcelona\, 08005\, España
X-APPLE-STRUCTURED-LOCATION;VALUE=URI;X-ADDRESS=Moll de Xaloc\, Pantalán 6
 \, Amarrre 606\, Barcelona\, Barcelona\, 08005\, España;X-APPLE-RADIUS=10
 0;X-TITLE=Barco Aurora | Port Olímpic\, Moll de Xaloc\, Pantalán 6\, Ama
 rre 606 | 08005 Barcelona:geo:0,0
END:VEVENT
BEGIN:VTIMEZONE
TZID:Europe/Madrid
X-LIC-LOCATION:Europe/Madrid
BEGIN:DAYLIGHT
DTSTART:20250330T030000
TZOFFSETFROM:+0100
TZOFFSETTO:+0200
TZNAME:CEST
END:DAYLIGHT
END:VTIMEZONE
END:VCALENDAR