BEGIN:VCALENDAR
VERSION:2.0
PRODID:-//wp-events-plugin.com//7.2.3.1//EN
TZID:Europe/Paris
X-WR-TIMEZONE:Europe/Paris
BEGIN:VEVENT
UID:1441@alamarsailing.com
DTSTART;TZID=Europe/Madrid:20250329T100000
DTEND;TZID=Europe/Madrid:20250330T140000
DTSTAMP:20250219T161755Z
URL:https://alamarsailing.com/events/curso-velas-portantes-5/
SUMMARY:Curso Velas Portantes
DESCRIPTION:Introducción a las Velas Portantes Spinnaker y Gennaker.\n\n 	
 ¿Para qué sirven?\n 	¿Diferencias entre ellas?\n 	¿Cómo se triman?\n\
 nDespués de realizar este curso de iniciación a las velas portantes junt
 o a los cursos de iniciación a la vela y nivel 2 y 3\, ya estarás lista 
 para unirte a nuestro club de navegación e iniciarte en el mundo de las r
 egatas de recreo.\n\nEl curso se realizará en dos sesiones de 4h.
CATEGORIES:Curso de Vela,z Barco Albatross,zz Patrona Carla
LOCATION:Alamar Sailing | Port Olímpic\, Moll de Xaloc\, Detrás del Parki
 ng | Amarre 217\, Port Olímpic Pantalán 7 Barcelona\, Barcelona\, Barcel
 ona\, 08005\, Susana: +34 629 986 926\, España
X-APPLE-STRUCTURED-LOCATION;VALUE=URI;X-ADDRESS=Port Olímpic Pantalán 7 B
 arcelona\, Barcelona\, Barcelona\, 08005\, Susana: +34 629 986 926\, Espa
 ña;X-APPLE-RADIUS=100;X-TITLE=Alamar Sailing | Port Olímpic\, Moll de Xa
 loc\, Detrás del Parking | Amarre 217:geo:0,0
END:VEVENT
BEGIN:VTIMEZONE
TZID:Europe/Madrid
X-LIC-LOCATION:Europe/Madrid
BEGIN:STANDARD
DTSTART:20241027T020000
TZOFFSETFROM:+0200
TZOFFSETTO:+0100
TZNAME:CET
END:STANDARD
BEGIN:DAYLIGHT
DTSTART:20250330T030000
TZOFFSETFROM:+0100
TZOFFSETTO:+0200
TZNAME:CEST
END:DAYLIGHT
END:VTIMEZONE
END:VCALENDAR