BEGIN:VCALENDAR
VERSION:2.0
PRODID:-//wp-events-plugin.com//7.2.3.1//EN
TZID:Europe/Paris
X-WR-TIMEZONE:Europe/Paris
BEGIN:VEVENT
UID:1151@alamarsailing.com
DTSTART;TZID=Europe/Madrid:20240713T100000
DTEND;TZID=Europe/Madrid:20240714T140000
DTSTAMP:20240619T171919Z
URL:https://alamarsailing.com/events/curso-de-velas-portantes/
SUMMARY:curso de velas portantes
DESCRIPTION:https://alamarsailing.com/producto/curso-de-velas-portantes-niv
 el-iv-y-v/\n\nDespués de realizar los Cursos de Iniciación a la Vela niv
 el 0\, I\, II y III\, ya estás lista para iniciarte en las Velas Portante
 s. Esas velas tan bonitas que se inflan hacia la proa del velero llenas de
  colores vivos y alegres.\n\nTEMARIO:\n\n 	Introducción a las Velas Porta
 ntes.\n 	Diferencia entre Spinnaker Simétrico y Asimétrico.\n 	Cómo se 
 montan.\n 	Trimado.\n\nLas prácticas se realizarán durante un fin de sem
 ana en sábado (4h) y domingo (4h)\, o entre semana durante 3 días en ses
 iones de 3 horas. Iremos actualizando nuestro calendario de actividades do
 nde podrás consultar las fechas disponibles. Si no encuentras unas fechas
  que se adapten a tus horarios\, puedes escribirnos y abriremos un grupo e
 n las fechas que tengas disponibilidad.
CATEGORIES:z Barco Albatross,zz Patrona Carla
END:VEVENT
BEGIN:VTIMEZONE
TZID:Europe/Madrid
X-LIC-LOCATION:Europe/Madrid
BEGIN:DAYLIGHT
DTSTART:20240331T030000
TZOFFSETFROM:+0100
TZOFFSETTO:+0200
TZNAME:CEST
END:DAYLIGHT
END:VTIMEZONE
END:VCALENDAR