BEGIN:VCALENDAR
VERSION:2.0
PRODID:-//wp-events-plugin.com//7.2.3.1//EN
TZID:Europe/Paris
X-WR-TIMEZONE:Europe/Paris
BEGIN:VEVENT
UID:576@alamarsailing.com
DTSTART;TZID=Europe/Madrid:20220706T170000
DTEND;TZID=Europe/Madrid:20220708T200000
DTSTAMP:20220627T072230Z
URL:https://alamarsailing.com/events/curso-de-vela-maniobras-introduccion-
 regatas-2/
SUMMARY:Curso de Vela/Maniobras/introducción regatas
DESCRIPTION:Con el curso de iniciación a la vela\, empezaremos de cero\, e
 xplicando todas las partes del barco\, cómo funcionan las velas\, los rum
 bos navegables\, cómo trabajar con los cabos y cómo movernos por cubiert
 a. Haremos viradas\, trasluchadas\, pondremos rizos\, izaremos velas y pra
 cticaremos diversas maniobras.
ATTACH;FMTTYPE=image/jpeg:https://alamarsailing.com/wp-content/uploads/202
 1/08/inicacion-vela.png
LOCATION:Alamar Sailing | Port Olímpic\, Moll de Xaloc\, Detrás del Parki
 ng | Amarre 217\, Port Olímpic Pantalán 7 Barcelona\, Barcelona\, Barcel
 ona\, 08005\, Susana: +34 629 986 926\, España
X-APPLE-STRUCTURED-LOCATION;VALUE=URI;X-ADDRESS=Port Olímpic Pantalán 7 B
 arcelona\, Barcelona\, Barcelona\, 08005\, Susana: +34 629 986 926\, Espa
 ña;X-APPLE-RADIUS=100;X-TITLE=Alamar Sailing | Port Olímpic\, Moll de Xa
 loc\, Detrás del Parking | Amarre 217:geo:0,0
END:VEVENT
BEGIN:VTIMEZONE
TZID:Europe/Madrid
X-LIC-LOCATION:Europe/Madrid
BEGIN:DAYLIGHT
DTSTART:20220327T030000
TZOFFSETFROM:+0100
TZOFFSETTO:+0200
TZNAME:CEST
END:DAYLIGHT
END:VTIMEZONE
END:VCALENDAR