BEGIN:VCALENDAR
VERSION:2.0
PRODID:-//wp-events-plugin.com//7.2.3.1//EN
TZID:Europe/Paris
X-WR-TIMEZONE:Europe/Paris
BEGIN:VEVENT
UID:1274@alamarsailing.com
DTSTART;TZID=Europe/Madrid:20241116T100000
DTEND;TZID=Europe/Madrid:20241116T140000
DTSTAMP:20241112T105518Z
URL:https://alamarsailing.com/events/curso-de-iniciacion-y-perfeccionamien
 to-a-vela-26/
SUMMARY:Curso de Iniciación a Vela Nivel 0
DESCRIPTION:Con el curso de iniciación a la vela y perfeccionamiento\, emp
 ezaremos de cero para aquellas personas que acaban de descubrir la navegac
 ión a vela y para aquellas que ya tienen conocimiento previo pero quieren
  practicar y aprender más.\n\nTe daremos acceso al curso online en video 
 que incluye los siguientes temas\, para que vengas preparadada al curso pr
 áctico:\n\nTEMA 1 - Nomenclatura Náutica (Curso PER)\n\nTEMA 2 - Maniobr
 as y Fondeo (Curso PER)\n\nTEMA 3- Seguridad en la Mar (Curso PER)\n\nTEMA
  4 - Navegación a Vela\n\nTEMA 5 - Trimado de Velas\n\nTEMA 6 - Reglament
 o Internacional Prevención de Abordajes (RIPA\, Curso PER)\n\n&nbsp\;\n\n
 Durante las clases prácticas aprenderás cómo funcionan las velas\, los 
 rumbos navegables\, cómo trabajar con los cabos y cómo movernos por cubi
 erta. Haremos viradas\, trasluchadas\, pondremos rizos\, izaremos velas y 
 practicaremos diversas maniobras.\n\nEl curso se desarrollará en dos sesi
 ones de 4h en días consecutivos. Si alguno de los dos días tenemos malas
  condiciones meteorológicas que no permitan realizar la actividad con seg
 uridad\, aplazaremos las prácticas para otra fecha a determinar.\n\n&nbsp
 \;\n\n&nbsp\;\n\n&nbsp\;
ATTACH;FMTTYPE=image/jpeg:https://alamarsailing.com/wp-content/uploads/202
 2/10/REGATA05.jpg
CATEGORIES:Curso de Vela,z Barco Albatross,zz Patrona Lis
LOCATION:Alamar Sailing | Port Olímpic\, Moll de Xaloc\, Detrás del Parki
 ng | Amarre 217\, Port Olímpic Pantalán 7 Barcelona\, Barcelona\, Barcel
 ona\, 08005\, Susana: +34 629 986 926\, España
X-APPLE-STRUCTURED-LOCATION;VALUE=URI;X-ADDRESS=Port Olímpic Pantalán 7 B
 arcelona\, Barcelona\, Barcelona\, 08005\, Susana: +34 629 986 926\, Espa
 ña;X-APPLE-RADIUS=100;X-TITLE=Alamar Sailing | Port Olímpic\, Moll de Xa
 loc\, Detrás del Parking | Amarre 217:geo:0,0
END:VEVENT
BEGIN:VTIMEZONE
TZID:Europe/Madrid
X-LIC-LOCATION:Europe/Madrid
BEGIN:STANDARD
DTSTART:20241027T020000
TZOFFSETFROM:+0200
TZOFFSETTO:+0100
TZNAME:CET
END:STANDARD
END:VTIMEZONE
END:VCALENDAR